BEGIN:VCALENDAR
PRODID:-//github.com/ical-org/ical.net//NONSGML ical.net 4.0//EN
VERSION:2.0
BEGIN:VEVENT
DESCRIPTION:Join our joyful Mixed-Age Music Together classes and share the
  magic of singing\,\ndancing\, and music-making with your child. Perfect 
 for ages 8 months–4 years\,\nthese 45-minute family classes are fun\, eng
 aging\, and filled with opportunities\nto bond\, learn\, and make memorie
 s together.
DTEND:20260707T091500
DTSTAMP:20260419T182538Z
DTSTART:20260707T083000
LOCATION:Golden State Ballet Academy\, 6338 Riverdale St San Diego\, CA 92
 120
SEQUENCE:0
SUMMARY:Kazoo-Tuesday@8:30am with Tammy
UID:9352656
END:VEVENT
BEGIN:VEVENT
DESCRIPTION:Join our joyful Mixed-Age Music Together classes and share the
  magic of singing\,\ndancing\, and music-making with your child. Perfect 
 for ages 8 months–4 years\,\nthese 45-minute family classes are fun\, eng
 aging\, and filled with opportunities\nto bond\, learn\, and make memorie
 s together.
DTEND:20260714T091500
DTSTAMP:20260419T182538Z
DTSTART:20260714T083000
LOCATION:Golden State Ballet Academy\, 6338 Riverdale St San Diego\, CA 92
 120
SEQUENCE:0
SUMMARY:Kazoo-Tuesday@8:30am with Tammy
UID:9352657
END:VEVENT
BEGIN:VEVENT
DESCRIPTION:Join our joyful Mixed-Age Music Together classes and share the
  magic of singing\,\ndancing\, and music-making with your child. Perfect 
 for ages 8 months–4 years\,\nthese 45-minute family classes are fun\, eng
 aging\, and filled with opportunities\nto bond\, learn\, and make memorie
 s together.
DTEND:20260721T091500
DTSTAMP:20260419T182538Z
DTSTART:20260721T083000
LOCATION:Golden State Ballet Academy\, 6338 Riverdale St San Diego\, CA 92
 120
SEQUENCE:0
SUMMARY:Kazoo-Tuesday@8:30am with Tammy
UID:9352658
END:VEVENT
BEGIN:VEVENT
DESCRIPTION:Join our joyful Mixed-Age Music Together classes and share the
  magic of singing\,\ndancing\, and music-making with your child. Perfect 
 for ages 8 months–4 years\,\nthese 45-minute family classes are fun\, eng
 aging\, and filled with opportunities\nto bond\, learn\, and make memorie
 s together.
DTEND:20260728T091500
DTSTAMP:20260419T182538Z
DTSTART:20260728T083000
LOCATION:Golden State Ballet Academy\, 6338 Riverdale St San Diego\, CA 92
 120
SEQUENCE:0
SUMMARY:Kazoo-Tuesday@8:30am with Tammy
UID:9352659
END:VEVENT
BEGIN:VEVENT
DESCRIPTION:Join our joyful Mixed-Age Music Together classes and share the
  magic of singing\,\ndancing\, and music-making with your child. Perfect 
 for ages 8 months–4 years\,\nthese 45-minute family classes are fun\, eng
 aging\, and filled with opportunities\nto bond\, learn\, and make memorie
 s together.
DTEND:20260804T091500
DTSTAMP:20260419T182538Z
DTSTART:20260804T083000
LOCATION:Golden State Ballet Academy\, 6338 Riverdale St San Diego\, CA 92
 120
SEQUENCE:0
SUMMARY:Kazoo-Tuesday@8:30am with Tammy
UID:9352660
END:VEVENT
BEGIN:VEVENT
DESCRIPTION:Join our joyful Mixed-Age Music Together classes and share the
  magic of singing\,\ndancing\, and music-making with your child. Perfect 
 for ages 8 months–4 years\,\nthese 45-minute family classes are fun\, eng
 aging\, and filled with opportunities\nto bond\, learn\, and make memorie
 s together.
DTEND:20260811T091500
DTSTAMP:20260419T182538Z
DTSTART:20260811T083000
LOCATION:Golden State Ballet Academy\, 6338 Riverdale St San Diego\, CA 92
 120
SEQUENCE:0
SUMMARY:Kazoo-Tuesday@8:30am with Tammy
UID:9352661
END:VEVENT
BEGIN:VTIMEZONE
TZID:US/Pacific
X-LIC-LOCATION:US/Pacific
END:VTIMEZONE
END:VCALENDAR
